BEGIN:VCALENDAR
VERSION:2.0
PRODID:-//Commune de RIOUX-MARTIN - ECPv5.0.3.1//NONSGML v1.0//EN
CALSCALE:GREGORIAN
METHOD:PUBLISH
X-WR-CALNAME:Commune de RIOUX-MARTIN
X-ORIGINAL-URL:https://www.rioux-martin.fr
X-WR-CALDESC:Évènements pour Commune de RIOUX-MARTIN
BEGIN:VTIMEZONE
TZID:Europe/Paris
BEGIN:DAYLIGHT
TZOFFSETFROM:+0100
TZOFFSETTO:+0200
TZNAME:CEST
DTSTART:20250330T010000
END:DAYLIGHT
BEGIN:STANDARD
TZOFFSETFROM:+0200
TZOFFSETTO:+0100
TZNAME:CET
DTSTART:20251026T010000
END:STANDARD
END:VTIMEZONE
BEGIN:VEVENT
DTSTART;TZID=Europe/Paris:20251214T080000
DTEND;TZID=Europe/Paris:20251221T170000
DTSTAMP:20260420T003629
CREATED:20251209T093158Z
LAST-MODIFIED:20251209T093158Z
UID:2896-1765699200-1766336400@www.rioux-martin.fr
SUMMARY:RONDE DES CRECHES PAYS DE CHALAIS - 2025
DESCRIPTION:RONDE DES CRECHES PAYS DE CHALAIS – 2025 \n
URL:https://www.rioux-martin.fr/evenement/ronde-des-creches-pays-de-chalais-2025/
LOCATION:Pays de Chalais
ATTACH;FMTTYPE=image/jpeg:https://www.rioux-martin.fr/wp-content/uploads/2025/12/Ronde-des-crèches-2025.jpg
END:VEVENT
END:VCALENDAR