BEGIN:VCALENDAR
VERSION:2.0
PRODID:-//Commune de RIOUX-MARTIN - ECPv5.0.3.1//NONSGML v1.0//EN
CALSCALE:GREGORIAN
METHOD:PUBLISH
X-WR-CALNAME:Commune de RIOUX-MARTIN
X-ORIGINAL-URL:https://www.rioux-martin.fr
X-WR-CALDESC:Évènements pour Commune de RIOUX-MARTIN
BEGIN:VTIMEZONE
TZID:Europe/Paris
BEGIN:DAYLIGHT
TZOFFSETFROM:+0100
TZOFFSETTO:+0200
TZNAME:CEST
DTSTART:20230326T010000
END:DAYLIGHT
BEGIN:STANDARD
TZOFFSETFROM:+0200
TZOFFSETTO:+0100
TZNAME:CET
DTSTART:20231029T010000
END:STANDARD
END:VTIMEZONE
BEGIN:VEVENT
DTSTART;TZID=Europe/Paris:20231210T080000
DTEND;TZID=Europe/Paris:20231217T170000
DTSTAMP:20260422T100158
CREATED:20231124T081242Z
LAST-MODIFIED:20231124T081242Z
UID:2189-1702195200-1702832400@www.rioux-martin.fr
SUMMARY:RONDE DES CRECHES - les dimanches 10 et 17 décembre 2023
DESCRIPTION:RONDE DES CRECHES – les dimanches 10 et 17 décembre 2023 \n
URL:https://www.rioux-martin.fr/evenement/ronde-des-creches-les-dimanches-10-et-17-decembre-2023/
LOCATION:Chalais
ATTACH;FMTTYPE=image/jpeg:https://www.rioux-martin.fr/wp-content/uploads/2023/11/Ronde-des-crèches.jpg
END:VEVENT
END:VCALENDAR