BEGIN:VCALENDAR
VERSION:2.0
PRODID:-//Commune de RIOUX-MARTIN - ECPv5.0.3.1//NONSGML v1.0//EN
CALSCALE:GREGORIAN
METHOD:PUBLISH
X-WR-CALNAME:Commune de RIOUX-MARTIN
X-ORIGINAL-URL:https://www.rioux-martin.fr
X-WR-CALDESC:Évènements pour Commune de RIOUX-MARTIN
BEGIN:VTIMEZONE
TZID:Europe/Paris
BEGIN:DAYLIGHT
TZOFFSETFROM:+0100
TZOFFSETTO:+0200
TZNAME:CEST
DTSTART:20260329T010000
END:DAYLIGHT
BEGIN:STANDARD
TZOFFSETFROM:+0200
TZOFFSETTO:+0100
TZNAME:CET
DTSTART:20261025T010000
END:STANDARD
END:VTIMEZONE
BEGIN:VEVENT
DTSTART;TZID=Europe/Paris:20260120T180000
DTEND;TZID=Europe/Paris:20260120T200000
DTSTAMP:20260419T231558
CREATED:20260114T155302Z
LAST-MODIFIED:20260114T155302Z
UID:2935-1768932000-1768939200@www.rioux-martin.fr
SUMMARY:REUNION DE CONSEIL MUNICIPAL - MARDI 20 JANVIER 2026 à 18 h 00
DESCRIPTION:REUNION DE CONSEIL MUNICIPAL – MARDI 20 JANVIER 2026 à 18 h 00 \nConvocation conseil municipal mardi 20 janvier 2026 \n
URL:https://www.rioux-martin.fr/evenement/reunion-de-conseil-municipal-mardi-20-janvier-2026-a-18-h-00/
LOCATION:RIOUX-MARTIN\, 2 rue des écossais du bourg\, RIOUX-MARTIN\, 16210\, France
ATTACH;FMTTYPE=image/jpeg:https://www.rioux-martin.fr/wp-content/uploads/2022/06/Marianne-RIOUX-MARTIN.jpg
END:VEVENT
END:VCALENDAR