BEGIN:VCALENDAR
VERSION:2.0
PRODID:-//Commune de RIOUX-MARTIN - ECPv5.0.3.1//NONSGML v1.0//EN
CALSCALE:GREGORIAN
METHOD:PUBLISH
X-WR-CALNAME:Commune de RIOUX-MARTIN
X-ORIGINAL-URL:https://www.rioux-martin.fr
X-WR-CALDESC:Évènements pour Commune de RIOUX-MARTIN
BEGIN:VTIMEZONE
TZID:Europe/Paris
BEGIN:DAYLIGHT
TZOFFSETFROM:+0100
TZOFFSETTO:+0200
TZNAME:CEST
DTSTART:20230326T010000
END:DAYLIGHT
BEGIN:STANDARD
TZOFFSETFROM:+0200
TZOFFSETTO:+0100
TZNAME:CET
DTSTART:20231029T010000
END:STANDARD
END:VTIMEZONE
BEGIN:VEVENT
DTSTART;TZID=Europe/Paris:20230213T183000
DTEND;TZID=Europe/Paris:20230213T203000
DTSTAMP:20260422T023837
CREATED:20230203T085539Z
LAST-MODIFIED:20230203T085539Z
UID:1879-1676313000-1676320200@www.rioux-martin.fr
SUMMARY:REUNION DE CONSEIL MUNICIPAL lundi 13 février 2023 à 18h30
DESCRIPTION:REUNION DE CONSEIL MUNICIPAL lundi 13 février 2023 à 18h30 \nConvocation conseil municipal 13 février 2023 \n
URL:https://www.rioux-martin.fr/evenement/reunion-de-conseil-municipal-lundi-13-fevrier-2023-a-18h30/
LOCATION:RIOUX-MARTIN\, 2 rue des écossais du bourg\, RIOUX-MARTIN\, 16210\, France
ATTACH;FMTTYPE=image/jpeg:https://www.rioux-martin.fr/wp-content/uploads/2022/06/Marianne-RIOUX-MARTIN.jpg
END:VEVENT
END:VCALENDAR