BEGIN:VCALENDAR
VERSION:2.0
PRODID:-//Commune de RIOUX-MARTIN - ECPv5.0.3.1//NONSGML v1.0//EN
CALSCALE:GREGORIAN
METHOD:PUBLISH
X-WR-CALNAME:Commune de RIOUX-MARTIN
X-ORIGINAL-URL:https://www.rioux-martin.fr
X-WR-CALDESC:Évènements pour Commune de RIOUX-MARTIN
BEGIN:VTIMEZONE
TZID:Europe/Paris
BEGIN:DAYLIGHT
TZOFFSETFROM:+0100
TZOFFSETTO:+0200
TZNAME:CEST
DTSTART:20250330T010000
END:DAYLIGHT
BEGIN:STANDARD
TZOFFSETFROM:+0200
TZOFFSETTO:+0100
TZNAME:CET
DTSTART:20251026T010000
END:STANDARD
END:VTIMEZONE
BEGIN:VEVENT
DTSTART;TZID=Europe/Paris:20251119T080000
DTEND;TZID=Europe/Paris:20251119T170000
DTSTAMP:20260420T005116
CREATED:20251105T141417Z
LAST-MODIFIED:20251119T141509Z
UID:2864-1763539200-1763571600@www.rioux-martin.fr
SUMMARY:REUNION DE CONSEIL MUNICIPAL le 19/11/2025 à 18h00
DESCRIPTION:REUNION DE CONSEIL MUNICIPAL le 19/11/2025 à 18h00 \nConvocation conseil municipal mercredi 19 novembre 2025 \n
URL:https://www.rioux-martin.fr/evenement/reunion-de-conseil-municipal-le-19-11-2025-a-18h00/
ATTACH;FMTTYPE=image/jpeg:https://www.rioux-martin.fr/wp-content/uploads/2022/06/Marianne-RIOUX-MARTIN.jpg
END:VEVENT
END:VCALENDAR