BEGIN:VCALENDAR
VERSION:2.0
PRODID:-//Commune de RIOUX-MARTIN - ECPv5.0.3.1//NONSGML v1.0//EN
CALSCALE:GREGORIAN
METHOD:PUBLISH
X-WR-CALNAME:Commune de RIOUX-MARTIN
X-ORIGINAL-URL:https://www.rioux-martin.fr
X-WR-CALDESC:Évènements pour Commune de RIOUX-MARTIN
BEGIN:VTIMEZONE
TZID:Europe/Paris
BEGIN:DAYLIGHT
TZOFFSETFROM:+0100
TZOFFSETTO:+0200
TZNAME:CEST
DTSTART:20250330T010000
END:DAYLIGHT
BEGIN:STANDARD
TZOFFSETFROM:+0200
TZOFFSETTO:+0100
TZNAME:CET
DTSTART:20251026T010000
END:STANDARD
END:VTIMEZONE
BEGIN:VEVENT
DTSTART;TZID=Europe/Paris:20250628T110000
DTEND;TZID=Europe/Paris:20250628T170000
DTSTAMP:20260420T071823
CREATED:20250527T083645Z
LAST-MODIFIED:20250527T083645Z
UID:2682-1751108400-1751130000@www.rioux-martin.fr
SUMMARY:REPAS DE VILLAGE A RIOUX-MARTIN 28/06/25
DESCRIPTION:REPAS DE VILLAGE A RIOUX-MARTIN 28/06/25 \nrepas village 2025 \nVide ta chambre 2025 \n
URL:https://www.rioux-martin.fr/evenement/repas-de-village-a-rioux-martin-28-06-25/
LOCATION:RIOUX-MARTIN\, 2 rue des écossais du bourg\, RIOUX-MARTIN\, 16210\, France
ATTACH;FMTTYPE=image/jpeg:https://www.rioux-martin.fr/wp-content/uploads/2025/05/repas-de-village-2025.jpg
END:VEVENT
END:VCALENDAR