BEGIN:VCALENDAR
VERSION:2.0
PRODID:-//Commune de RIOUX-MARTIN - ECPv5.0.3.1//NONSGML v1.0//EN
CALSCALE:GREGORIAN
METHOD:PUBLISH
X-WR-CALNAME:Commune de RIOUX-MARTIN
X-ORIGINAL-URL:https://www.rioux-martin.fr
X-WR-CALDESC:Évènements pour Commune de RIOUX-MARTIN
BEGIN:VTIMEZONE
TZID:Europe/Paris
BEGIN:DAYLIGHT
TZOFFSETFROM:+0100
TZOFFSETTO:+0200
TZNAME:CEST
DTSTART:20220327T010000
END:DAYLIGHT
BEGIN:STANDARD
TZOFFSETFROM:+0200
TZOFFSETTO:+0100
TZNAME:CET
DTSTART:20221030T010000
END:STANDARD
END:VTIMEZONE
BEGIN:VEVENT
DTSTART;VALUE=DATE:20221211
DTEND;VALUE=DATE:20221212
DTSTAMP:20260422T053030
CREATED:20221118T091919Z
LAST-MODIFIED:20221118T091919Z
UID:1824-1670716800-1670803199@www.rioux-martin.fr
SUMMARY:REPAS DE FIN D’ANNEE ET NOEL DES ENFANTS\, dimanche 11 décembre 2022
DESCRIPTION:REPAS DE FIN D’ANNEE ET NOEL DES ENFANTS\, dimanche 11 décembre 2022 \nCourrier repas fin d’année 2022 \n
URL:https://www.rioux-martin.fr/evenement/repas-de-fin-dannee-et-noel-des-enfants-dimanche-11-decembre-2022/
LOCATION:salle des fêtes RIOUX-MARTIN\, 10 route de la Genétouze\, RIOUX-MARTIN\, 16210\, France
ATTACH;FMTTYPE=image/png:https://www.rioux-martin.fr/wp-content/uploads/2022/11/Bonne-année.png
END:VEVENT
END:VCALENDAR