BEGIN:VCALENDAR
VERSION:2.0
PRODID:-//Commune de RIOUX-MARTIN - ECPv5.0.3.1//NONSGML v1.0//EN
CALSCALE:GREGORIAN
METHOD:PUBLISH
X-WR-CALNAME:Commune de RIOUX-MARTIN
X-ORIGINAL-URL:https://www.rioux-martin.fr
X-WR-CALDESC:Évènements pour Commune de RIOUX-MARTIN
BEGIN:VTIMEZONE
TZID:Europe/Paris
BEGIN:DAYLIGHT
TZOFFSETFROM:+0100
TZOFFSETTO:+0200
TZNAME:CEST
DTSTART:20230326T010000
END:DAYLIGHT
BEGIN:STANDARD
TZOFFSETFROM:+0200
TZOFFSETTO:+0100
TZNAME:CET
DTSTART:20231029T010000
END:STANDARD
END:VTIMEZONE
BEGIN:VEVENT
DTSTART;TZID=Europe/Paris:20230602T080000
DTEND;TZID=Europe/Paris:20230604T170000
DTSTAMP:20260421T094825
CREATED:20230512T093406Z
LAST-MODIFIED:20230512T093406Z
UID:1978-1685692800-1685898000@www.rioux-martin.fr
SUMMARY:RENDEZ-VOUS AUX JARDINS du 02 au 04 juin 2023
DESCRIPTION:RENDEZ-VOUS AUX JARDINS du 02 au 04 juin 2023 \n \n
URL:https://www.rioux-martin.fr/evenement/rendez-vous-aux-jardins-du-02-au-04-juin-2023/
LOCATION:RIOUX-MARTIN\, 2 rue des écossais du bourg\, RIOUX-MARTIN\, 16210\, France
ATTACH;FMTTYPE=image/jpeg:https://www.rioux-martin.fr/wp-content/uploads/2023/05/Affiche-Rendez-vous-aux-jardins-2023-rotated.jpg
END:VEVENT
END:VCALENDAR