BEGIN:VCALENDAR
VERSION:2.0
PRODID:-//Commune de RIOUX-MARTIN - ECPv5.0.3.1//NONSGML v1.0//EN
CALSCALE:GREGORIAN
METHOD:PUBLISH
X-WR-CALNAME:Commune de RIOUX-MARTIN
X-ORIGINAL-URL:https://www.rioux-martin.fr
X-WR-CALDESC:Évènements pour Commune de RIOUX-MARTIN
BEGIN:VTIMEZONE
TZID:Europe/Paris
BEGIN:DAYLIGHT
TZOFFSETFROM:+0100
TZOFFSETTO:+0200
TZNAME:CEST
DTSTART:20250330T010000
END:DAYLIGHT
BEGIN:STANDARD
TZOFFSETFROM:+0200
TZOFFSETTO:+0100
TZNAME:CET
DTSTART:20251026T010000
END:STANDARD
END:VTIMEZONE
BEGIN:VEVENT
DTSTART;VALUE=DATE:20250501
DTEND;VALUE=DATE:20250502
DTSTAMP:20260422T083520
CREATED:20250402T121043Z
LAST-MODIFIED:20250402T121043Z
UID:2616-1746057600-1746143999@www.rioux-martin.fr
SUMMARY:RANDONNEE DU BRIN D'AILLET RIOUX-MARTIN le 1er mai
DESCRIPTION:RANDONNEE DU BRIN D’AILLET RIOUX-MARTIN le 1er mai \nbrin-aillet-rioux-martin2025 \n
URL:https://www.rioux-martin.fr/evenement/randonnee-du-brin-daillet-rioux-martin-le-1er-mai/
LOCATION:RIOUX-MARTIN\, 2 rue des écossais du bourg\, RIOUX-MARTIN\, 16210\, France
ATTACH;FMTTYPE=image/jpeg:https://www.rioux-martin.fr/wp-content/uploads/2025/04/Affiche-1er-mai-2025.jpg
END:VEVENT
END:VCALENDAR