BEGIN:VCALENDAR
VERSION:2.0
PRODID:-//Commune de RIOUX-MARTIN - ECPv5.0.3.1//NONSGML v1.0//EN
CALSCALE:GREGORIAN
METHOD:PUBLISH
X-WR-CALNAME:Commune de RIOUX-MARTIN
X-ORIGINAL-URL:https://www.rioux-martin.fr
X-WR-CALDESC:Évènements pour Commune de RIOUX-MARTIN
BEGIN:VTIMEZONE
TZID:Europe/Paris
BEGIN:DAYLIGHT
TZOFFSETFROM:+0100
TZOFFSETTO:+0200
TZNAME:CEST
DTSTART:20230326T010000
END:DAYLIGHT
BEGIN:STANDARD
TZOFFSETFROM:+0200
TZOFFSETTO:+0100
TZNAME:CET
DTSTART:20231029T010000
END:STANDARD
END:VTIMEZONE
BEGIN:VEVENT
DTSTART;VALUE=DATE:20230624
DTEND;VALUE=DATE:20230625
DTSTAMP:20260421T122224
CREATED:20230606T091142Z
LAST-MODIFIED:20230606T091142Z
UID:2047-1687564800-1687651199@www.rioux-martin.fr
SUMMARY:RANDO ET REPAS DE VILLAGE - SAMEDI 24 JUIN 2023
DESCRIPTION:RANDO ET REPAS DE VILLAGE – SAMEDI 24 JUIN 2023 \nRepas village 2023 \n
URL:https://www.rioux-martin.fr/evenement/rando-et-repas-de-village-samedi-24-juin-2023/
LOCATION:RIOUX-MARTIN\, 2 rue des écossais du bourg\, RIOUX-MARTIN\, 16210\, France
ATTACH;FMTTYPE=image/jpeg:https://www.rioux-martin.fr/wp-content/uploads/2023/06/repas-de-village.jpg
END:VEVENT
END:VCALENDAR