BEGIN:VCALENDAR
VERSION:2.0
PRODID:-//Commune de RIOUX-MARTIN - ECPv5.0.3.1//NONSGML v1.0//EN
CALSCALE:GREGORIAN
METHOD:PUBLISH
X-WR-CALNAME:Commune de RIOUX-MARTIN
X-ORIGINAL-URL:https://www.rioux-martin.fr
X-WR-CALDESC:Évènements pour Commune de RIOUX-MARTIN
BEGIN:VTIMEZONE
TZID:Europe/Paris
BEGIN:DAYLIGHT
TZOFFSETFROM:+0100
TZOFFSETTO:+0200
TZNAME:CEST
DTSTART:20240331T010000
END:DAYLIGHT
BEGIN:STANDARD
TZOFFSETFROM:+0200
TZOFFSETTO:+0100
TZNAME:CET
DTSTART:20241027T010000
END:STANDARD
END:VTIMEZONE
BEGIN:VEVENT
DTSTART;TZID=Europe/Paris:20240622T190000
DTEND;TZID=Europe/Paris:20240622T233000
DTSTAMP:20260423T085048
CREATED:20240529T131908Z
LAST-MODIFIED:20240529T131908Z
UID:2319-1719082800-1719099000@www.rioux-martin.fr
SUMMARY:MARCHE NOCTURNE A RIOUX-MARTIN le 22/06/24
DESCRIPTION:MARCHE NOCTURNE A RIOUX-MARTIN le 22/06/24 \n
URL:https://www.rioux-martin.fr/evenement/marche-nocturne-a-rioux-martin-le-22-06-24/
LOCATION:RIOUX-MARTIN\, 2 rue des écossais du bourg\, RIOUX-MARTIN\, 16210\, France
ATTACH;FMTTYPE=image/jpeg:https://www.rioux-martin.fr/wp-content/uploads/2024/05/Marche-nocturne-à-RIOUX-MARTIN-le-22-juin-2024.jpg
END:VEVENT
END:VCALENDAR