BEGIN:VCALENDAR
VERSION:2.0
PRODID:-//Commune de RIOUX-MARTIN - ECPv5.0.3.1//NONSGML v1.0//EN
CALSCALE:GREGORIAN
METHOD:PUBLISH
X-WR-CALNAME:Commune de RIOUX-MARTIN
X-ORIGINAL-URL:https://www.rioux-martin.fr
X-WR-CALDESC:Évènements pour Commune de RIOUX-MARTIN
BEGIN:VTIMEZONE
TZID:Europe/Paris
BEGIN:DAYLIGHT
TZOFFSETFROM:+0100
TZOFFSETTO:+0200
TZNAME:CEST
DTSTART:20260329T010000
END:DAYLIGHT
BEGIN:STANDARD
TZOFFSETFROM:+0200
TZOFFSETTO:+0100
TZNAME:CET
DTSTART:20261025T010000
END:STANDARD
END:VTIMEZONE
BEGIN:VEVENT
DTSTART;TZID=Europe/Paris:20260128T183000
DTEND;TZID=Europe/Paris:20260128T200000
DTSTAMP:20260419T214300
CREATED:20260126T135435Z
LAST-MODIFIED:20260126T135435Z
UID:2952-1769625000-1769630400@www.rioux-martin.fr
SUMMARY:Invitation REUNION STRATEGIE FORESTIERE de RIOUX-MARTIN  le 28/01/2026 à 18 h 30
DESCRIPTION:Invitation REUNION STRATEGIE FORESTIERE de RIOUX-MARTIN le 28/01/2026 à 18 h 30 \nInvitation réunion stratégie forestière \n
URL:https://www.rioux-martin.fr/evenement/invitation-reunion-strategie-forestiere-de-rioux-martin-le-28-01-2026-a-18-h-30/
LOCATION:salle des fêtes RIOUX-MARTIN\, 10 route de la Genétouze\, RIOUX-MARTIN\, 16210\, France
ATTACH;FMTTYPE=image/jpeg:https://www.rioux-martin.fr/wp-content/uploads/2026/01/BN2020°0829_07-scaled.jpg
END:VEVENT
END:VCALENDAR