BEGIN:VCALENDAR
VERSION:2.0
PRODID:-//Commune de RIOUX-MARTIN - ECPv5.0.3.1//NONSGML v1.0//EN
CALSCALE:GREGORIAN
METHOD:PUBLISH
X-WR-CALNAME:Commune de RIOUX-MARTIN
X-ORIGINAL-URL:https://www.rioux-martin.fr
X-WR-CALDESC:Évènements pour Commune de RIOUX-MARTIN
BEGIN:VTIMEZONE
TZID:Europe/Paris
BEGIN:DAYLIGHT
TZOFFSETFROM:+0100
TZOFFSETTO:+0200
TZNAME:CEST
DTSTART:20240331T010000
END:DAYLIGHT
BEGIN:STANDARD
TZOFFSETFROM:+0200
TZOFFSETTO:+0100
TZNAME:CET
DTSTART:20241027T010000
END:STANDARD
END:VTIMEZONE
BEGIN:VEVENT
DTSTART;TZID=Europe/Paris:20241208T120000
DTEND;TZID=Europe/Paris:20241208T170000
DTSTAMP:20260422T191548
CREATED:20241120T125108Z
LAST-MODIFIED:20241120T125108Z
UID:2526-1733659200-1733677200@www.rioux-martin.fr
SUMMARY:Invitation repas de fin d'année à RIOUX-MARTIN le 08/12/2024 à 12h15
DESCRIPTION:Invitation repas de fin d’année à RIOUX-MARTIN le 08/12/2024 à 12h15 \nCourrier repas fin d’année 2024 \n
URL:https://www.rioux-martin.fr/evenement/invitation-repas-de-fin-dannee-a-rioux-martin-le-08-12-2024-a-12h15/
LOCATION:salle des fêtes RIOUX-MARTIN\, 10 route de la Genétouze\, RIOUX-MARTIN\, 16210\, France
ATTACH;FMTTYPE=image/png:https://www.rioux-martin.fr/wp-content/uploads/2022/11/Bonne-année.png
END:VEVENT
END:VCALENDAR