BEGIN:VCALENDAR
VERSION:2.0
PRODID:-//Commune de RIOUX-MARTIN - ECPv5.0.3.1//NONSGML v1.0//EN
CALSCALE:GREGORIAN
METHOD:PUBLISH
X-WR-CALNAME:Commune de RIOUX-MARTIN
X-ORIGINAL-URL:https://www.rioux-martin.fr
X-WR-CALDESC:Évènements pour Commune de RIOUX-MARTIN
BEGIN:VTIMEZONE
TZID:Europe/Paris
BEGIN:DAYLIGHT
TZOFFSETFROM:+0100
TZOFFSETTO:+0200
TZNAME:CEST
DTSTART:20250330T010000
END:DAYLIGHT
BEGIN:STANDARD
TZOFFSETFROM:+0200
TZOFFSETTO:+0100
TZNAME:CET
DTSTART:20251026T010000
END:STANDARD
END:VTIMEZONE
BEGIN:VEVENT
DTSTART;TZID=Europe/Paris:20250112T163000
DTEND;TZID=Europe/Paris:20250112T190000
DTSTAMP:20260422T142829
CREATED:20250103T104342Z
LAST-MODIFIED:20250103T104342Z
UID:2550-1736699400-1736708400@www.rioux-martin.fr
SUMMARY:INVITATION GALETTE ET VOEUX DU MAIRE 12/01/25
DESCRIPTION:INVITATION GALETTE ET VOEUX DU MAIRE 12/01/25 \nGalette 2025 \n
URL:https://www.rioux-martin.fr/evenement/invitation-galette-et-voeux-du-maire-12-01-25/
LOCATION:salle des fêtes RIOUX-MARTIN\, 10 route de la Genétouze\, RIOUX-MARTIN\, 16210\, France
ATTACH;FMTTYPE=image/jpeg:https://www.rioux-martin.fr/wp-content/uploads/2025/01/Capture.jpg
END:VEVENT
END:VCALENDAR