BEGIN:VCALENDAR
VERSION:2.0
PRODID:-//Commune de RIOUX-MARTIN - ECPv5.0.3.1//NONSGML v1.0//EN
CALSCALE:GREGORIAN
METHOD:PUBLISH
X-WR-CALNAME:Commune de RIOUX-MARTIN
X-ORIGINAL-URL:https://www.rioux-martin.fr
X-WR-CALDESC:Évènements pour Commune de RIOUX-MARTIN
BEGIN:VTIMEZONE
TZID:Europe/Paris
BEGIN:DAYLIGHT
TZOFFSETFROM:+0100
TZOFFSETTO:+0200
TZNAME:CEST
DTSTART:20250330T010000
END:DAYLIGHT
BEGIN:STANDARD
TZOFFSETFROM:+0200
TZOFFSETTO:+0100
TZNAME:CET
DTSTART:20251026T010000
END:STANDARD
END:VTIMEZONE
BEGIN:VEVENT
DTSTART;TZID=Europe/Paris:20251223T140000
DTEND;TZID=Europe/Paris:20251223T163000
DTSTAMP:20260420T003714
CREATED:20251217T131859Z
LAST-MODIFIED:20251217T131859Z
UID:2909-1766498400-1766507400@www.rioux-martin.fr
SUMMARY:Invitation fleurissement de la commune le 23 décembre 2025 à 14h00
DESCRIPTION:Invitation fleurissement de la commune le 23 décembre 2025 à 14h00 \n
URL:https://www.rioux-martin.fr/evenement/invitation-fleurissement-de-la-commune-le-23-decembre-2025-a-14h00/
LOCATION:RIOUX-MARTIN\, 2 rue des écossais du bourg\, RIOUX-MARTIN\, 16210\, France
ATTACH;FMTTYPE=image/jpeg:https://www.rioux-martin.fr/wp-content/uploads/2025/12/Affiche-plantation-des-bulbes-le-23-12-2025-à-14h.jpg
END:VEVENT
END:VCALENDAR