BEGIN:VCALENDAR
VERSION:2.0
PRODID:-//Commune de RIOUX-MARTIN - ECPv5.0.3.1//NONSGML v1.0//EN
CALSCALE:GREGORIAN
METHOD:PUBLISH
X-WR-CALNAME:Commune de RIOUX-MARTIN
X-ORIGINAL-URL:https://www.rioux-martin.fr
X-WR-CALDESC:Évènements pour Commune de RIOUX-MARTIN
BEGIN:VTIMEZONE
TZID:Europe/Paris
BEGIN:DAYLIGHT
TZOFFSETFROM:+0100
TZOFFSETTO:+0200
TZNAME:CEST
DTSTART:20250330T010000
END:DAYLIGHT
BEGIN:STANDARD
TZOFFSETFROM:+0200
TZOFFSETTO:+0100
TZNAME:CET
DTSTART:20251026T010000
END:STANDARD
END:VTIMEZONE
BEGIN:VEVENT
DTSTART;TZID=Europe/Paris:20250508T113000
DTEND;TZID=Europe/Paris:20250508T130000
DTSTAMP:20260421T134427
CREATED:20250425T055956Z
LAST-MODIFIED:20250425T055956Z
UID:2638-1746703800-1746709200@www.rioux-martin.fr
SUMMARY:INVITATION CEREMONIE DU 8 MAI A RIOUX-MARTIN
DESCRIPTION:INVITATION CEREMONIE DU 8 MAI A RIOUX-MARTIN \nInvitation cérémonie du 8 mai 2025 \n
URL:https://www.rioux-martin.fr/evenement/invitation-ceremonie-du-8-mai-a-rioux-martin/
LOCATION:RIOUX-MARTIN\, 2 rue des écossais du bourg\, RIOUX-MARTIN\, 16210\, France
ATTACH;FMTTYPE=image/jpeg:https://www.rioux-martin.fr/wp-content/uploads/2022/06/Marianne-RIOUX-MARTIN.jpg
END:VEVENT
END:VCALENDAR