BEGIN:VCALENDAR
VERSION:2.0
PRODID:-//Commune de RIOUX-MARTIN - ECPv5.0.3.1//NONSGML v1.0//EN
CALSCALE:GREGORIAN
METHOD:PUBLISH
X-WR-CALNAME:Commune de RIOUX-MARTIN
X-ORIGINAL-URL:https://www.rioux-martin.fr
X-WR-CALDESC:Évènements pour Commune de RIOUX-MARTIN
BEGIN:VTIMEZONE
TZID:Europe/Paris
BEGIN:DAYLIGHT
TZOFFSETFROM:+0100
TZOFFSETTO:+0200
TZNAME:CEST
DTSTART:20250330T010000
END:DAYLIGHT
BEGIN:STANDARD
TZOFFSETFROM:+0200
TZOFFSETTO:+0100
TZNAME:CET
DTSTART:20251026T010000
END:STANDARD
END:VTIMEZONE
BEGIN:VEVENT
DTSTART;TZID=Europe/Paris:20251111T113000
DTEND;TZID=Europe/Paris:20251111T123000
DTSTAMP:20260420T020901
CREATED:20251103T151101Z
LAST-MODIFIED:20251103T151101Z
UID:2834-1762860600-1762864200@www.rioux-martin.fr
SUMMARY:INVITATION CEREMONIE DU 11 NOVEMBRE RIOUX-MARTIN
DESCRIPTION:INVITATION CEREMONIE DU 11 NOVEMBRE RIOUX-MARTIN \nInvitation cérémonie du 11 novembre 2025 \n
URL:https://www.rioux-martin.fr/evenement/invitation-ceremonie-du-11-novembre-rioux-martin-2/
LOCATION:RIOUX-MARTIN\, 2 rue des écossais du bourg\, RIOUX-MARTIN\, 16210\, France
ATTACH;FMTTYPE=image/jpeg:https://www.rioux-martin.fr/wp-content/uploads/2022/06/Marianne-RIOUX-MARTIN.jpg
END:VEVENT
END:VCALENDAR