BEGIN:VCALENDAR
VERSION:2.0
PRODID:-//Commune de RIOUX-MARTIN - ECPv5.0.3.1//NONSGML v1.0//EN
CALSCALE:GREGORIAN
METHOD:PUBLISH
X-WR-CALNAME:Commune de RIOUX-MARTIN
X-ORIGINAL-URL:https://www.rioux-martin.fr
X-WR-CALDESC:Évènements pour Commune de RIOUX-MARTIN
BEGIN:VTIMEZONE
TZID:Europe/Paris
BEGIN:DAYLIGHT
TZOFFSETFROM:+0100
TZOFFSETTO:+0200
TZNAME:CEST
DTSTART:20240331T010000
END:DAYLIGHT
BEGIN:STANDARD
TZOFFSETFROM:+0200
TZOFFSETTO:+0100
TZNAME:CET
DTSTART:20241027T010000
END:STANDARD
END:VTIMEZONE
BEGIN:VEVENT
DTSTART;TZID=Europe/Paris:20240508T110000
DTEND;TZID=Europe/Paris:20240508T123000
DTSTAMP:20260423T002526
CREATED:20240503T070955Z
LAST-MODIFIED:20240503T070955Z
UID:2277-1715166000-1715171400@www.rioux-martin.fr
SUMMARY:INVITATION A LA CEREMONIE COMMEMORATIVE DU 8 MAI 1945\, à 11h mercredi prochain
DESCRIPTION:INVITATION A LA CEREMONIE COMMEMORATIVE DU 8 MAI 1945\, à 11h mercredi prochain \nInvitation cérémonie du 8 mai 2024 \n
URL:https://www.rioux-martin.fr/evenement/invitation-a-la-ceremonie-commemorative-du-8-mai-1945-a-11h-mercredi-prochain/
LOCATION:RIOUX-MARTIN\, 2 rue des écossais du bourg\, RIOUX-MARTIN\, 16210\, France
ATTACH;FMTTYPE=image/jpeg:https://www.rioux-martin.fr/wp-content/uploads/2022/06/Marianne-RIOUX-MARTIN.jpg
END:VEVENT
END:VCALENDAR