BEGIN:VCALENDAR
VERSION:2.0
PRODID:-//Commune de RIOUX-MARTIN - ECPv5.0.3.1//NONSGML v1.0//EN
CALSCALE:GREGORIAN
METHOD:PUBLISH
X-WR-CALNAME:Commune de RIOUX-MARTIN
X-ORIGINAL-URL:https://www.rioux-martin.fr
X-WR-CALDESC:Évènements pour Commune de RIOUX-MARTIN
BEGIN:VTIMEZONE
TZID:Europe/Paris
BEGIN:DAYLIGHT
TZOFFSETFROM:+0100
TZOFFSETTO:+0200
TZNAME:CEST
DTSTART:20250330T010000
END:DAYLIGHT
BEGIN:STANDARD
TZOFFSETFROM:+0200
TZOFFSETTO:+0100
TZNAME:CET
DTSTART:20251026T010000
END:STANDARD
END:VTIMEZONE
BEGIN:VEVENT
DTSTART;TZID=Europe/Paris:20250517T183000
DTEND;TZID=Europe/Paris:20250517T193000
DTSTAMP:20260421T095120
CREATED:20250513T095157Z
LAST-MODIFIED:20250513T095157Z
UID:2662-1747506600-1747510200@www.rioux-martin.fr
SUMMARY:INIVITATION PLANTATION DES CITROUILLES le samedi 17 mai 2025 à partir de 18h45
DESCRIPTION:INIVITATION PLANTATION DES CITROUILLES le samedi 17 mai 2025 à partir de 18h45 \nAffiche plantation des citrouilles \n
URL:https://www.rioux-martin.fr/evenement/inivitation-plantation-des-citrouilles-le-samedi-17-mai-2025-a-partir-de-18h45/
LOCATION:RIOUX-MARTIN\, 2 rue des écossais du bourg\, RIOUX-MARTIN\, 16210\, France
ATTACH;FMTTYPE=image/jpeg:https://www.rioux-martin.fr/wp-content/uploads/2025/05/Affiche-plantation-des-citrouilles-2025.jpg
END:VEVENT
END:VCALENDAR