BEGIN:VCALENDAR
VERSION:2.0
PRODID:-//Commune de RIOUX-MARTIN - ECPv5.0.3.1//NONSGML v1.0//EN
CALSCALE:GREGORIAN
METHOD:PUBLISH
X-WR-CALNAME:Commune de RIOUX-MARTIN
X-ORIGINAL-URL:https://www.rioux-martin.fr
X-WR-CALDESC:Évènements pour Commune de RIOUX-MARTIN
BEGIN:VTIMEZONE
TZID:Europe/Paris
BEGIN:DAYLIGHT
TZOFFSETFROM:+0100
TZOFFSETTO:+0200
TZNAME:CEST
DTSTART:20230326T010000
END:DAYLIGHT
BEGIN:STANDARD
TZOFFSETFROM:+0200
TZOFFSETTO:+0100
TZNAME:CET
DTSTART:20231029T010000
END:STANDARD
END:VTIMEZONE
BEGIN:VEVENT
DTSTART;TZID=Europe/Paris:20230901T080000
DTEND;TZID=Europe/Paris:20230920T170000
DTSTAMP:20260421T222108
CREATED:20230830T143201Z
LAST-MODIFIED:20230830T143201Z
UID:2115-1693555200-1695229200@www.rioux-martin.fr
SUMMARY:GROUPEMENT DE COMMANDE FIOUL - septembre 2023
DESCRIPTION:GROUPEMENT DE COMMANDE FIOUL – septembre 2023 \nFormulaire de commande de fioul Cnes ancien canton septembre 2023 \n
URL:https://www.rioux-martin.fr/evenement/groupement-de-commande-fioul-septembre-2023/
END:VEVENT
END:VCALENDAR