BEGIN:VCALENDAR
VERSION:2.0
PRODID:-//Commune de RIOUX-MARTIN - ECPv5.0.3.1//NONSGML v1.0//EN
CALSCALE:GREGORIAN
METHOD:PUBLISH
X-WR-CALNAME:Commune de RIOUX-MARTIN
X-ORIGINAL-URL:https://www.rioux-martin.fr
X-WR-CALDESC:Évènements pour Commune de RIOUX-MARTIN
BEGIN:VTIMEZONE
TZID:Europe/Paris
BEGIN:DAYLIGHT
TZOFFSETFROM:+0100
TZOFFSETTO:+0200
TZNAME:CEST
DTSTART:20240331T010000
END:DAYLIGHT
BEGIN:STANDARD
TZOFFSETFROM:+0200
TZOFFSETTO:+0100
TZNAME:CET
DTSTART:20241027T010000
END:STANDARD
END:VTIMEZONE
BEGIN:VEVENT
DTSTART;TZID=Europe/Paris:20241126T080000
DTEND;TZID=Europe/Paris:20241129T170000
DTSTAMP:20260422T215443
CREATED:20241126T074102Z
LAST-MODIFIED:20241126T074102Z
UID:2531-1732608000-1732899600@www.rioux-martin.fr
SUMMARY:GROUPEMENT DE COMMANDE FIOUL novembre 2024
DESCRIPTION:GROUPEMENT DE COMMANDE FIOUL novembre 2024 \nFormulaire de commande de fioul Cnes ancien canton \n
URL:https://www.rioux-martin.fr/evenement/groupement-de-commande-fioul-novembre-2024/
END:VEVENT
END:VCALENDAR