BEGIN:VCALENDAR
VERSION:2.0
PRODID:-//Commune de RIOUX-MARTIN - ECPv5.0.3.1//NONSGML v1.0//EN
CALSCALE:GREGORIAN
METHOD:PUBLISH
X-WR-CALNAME:Commune de RIOUX-MARTIN
X-ORIGINAL-URL:https://www.rioux-martin.fr
X-WR-CALDESC:Évènements pour Commune de RIOUX-MARTIN
BEGIN:VTIMEZONE
TZID:Europe/Paris
BEGIN:DAYLIGHT
TZOFFSETFROM:+0100
TZOFFSETTO:+0200
TZNAME:CEST
DTSTART:20230326T010000
END:DAYLIGHT
BEGIN:STANDARD
TZOFFSETFROM:+0200
TZOFFSETTO:+0100
TZNAME:CET
DTSTART:20231029T010000
END:STANDARD
END:VTIMEZONE
BEGIN:VEVENT
DTSTART;TZID=Europe/Paris:20230519T083000
DTEND;TZID=Europe/Paris:20230519T120000
DTSTAMP:20260421T110201
CREATED:20230512T094020Z
LAST-MODIFIED:20230512T094100Z
UID:1986-1684485000-1684497600@www.rioux-martin.fr
SUMMARY:FERMETURE DE LA MAIRIE VENDREDI 19 mai 2023
DESCRIPTION:FERMETURE DE LA MAIRIE VENDREDI 19 mai 2023 \nFermeture Mairie le 19 mai 2023 \n
URL:https://www.rioux-martin.fr/evenement/fermeture-de-la-mairie-vendredi-19-mai-2023/
ATTACH;FMTTYPE=image/jpeg:https://www.rioux-martin.fr/wp-content/uploads/2023/05/Fermeture-Mairie-noel-2021.jpeg
END:VEVENT
END:VCALENDAR