BEGIN:VCALENDAR
VERSION:2.0
PRODID:-//Commune de RIOUX-MARTIN - ECPv5.0.3.1//NONSGML v1.0//EN
CALSCALE:GREGORIAN
METHOD:PUBLISH
X-WR-CALNAME:Commune de RIOUX-MARTIN
X-ORIGINAL-URL:https://www.rioux-martin.fr
X-WR-CALDESC:Évènements pour Commune de RIOUX-MARTIN
BEGIN:VTIMEZONE
TZID:Europe/Paris
BEGIN:DAYLIGHT
TZOFFSETFROM:+0100
TZOFFSETTO:+0200
TZNAME:CEST
DTSTART:20250330T010000
END:DAYLIGHT
BEGIN:STANDARD
TZOFFSETFROM:+0200
TZOFFSETTO:+0100
TZNAME:CET
DTSTART:20251026T010000
END:STANDARD
END:VTIMEZONE
BEGIN:VEVENT
DTSTART;TZID=Europe/Paris:20250928T160000
DTEND;TZID=Europe/Paris:20250928T180000
DTSTAMP:20260420T044038
CREATED:20250911T085838Z
LAST-MODIFIED:20250911T085838Z
UID:2804-1759075200-1759082400@www.rioux-martin.fr
SUMMARY:CONCERT ARPEGGIONE à Rioux-Martin le 28/09/2025 ﻿🎻
DESCRIPTION:CONCERT ARPEGGIONE à Rioux-Martin le 28/09/2025 🎻 \n
URL:https://www.rioux-martin.fr/evenement/concert-arpeggione-a-rioux-martin-le-28-09-2025-%ef%bb%bf%f0%9f%8e%bb/
LOCATION:salle des fêtes RIOUX-MARTIN\, 10 route de la Genétouze\, RIOUX-MARTIN\, 16210\, France
ATTACH;FMTTYPE=image/jpeg:https://www.rioux-martin.fr/wp-content/uploads/2025/09/concert-arpeggione2025_page-0001.jpg
END:VEVENT
END:VCALENDAR