BEGIN:VCALENDAR
VERSION:2.0
PRODID:-//Commune de RIOUX-MARTIN - ECPv5.0.3.1//NONSGML v1.0//EN
CALSCALE:GREGORIAN
METHOD:PUBLISH
X-WR-CALNAME:Commune de RIOUX-MARTIN
X-ORIGINAL-URL:https://www.rioux-martin.fr
X-WR-CALDESC:Évènements pour Commune de RIOUX-MARTIN
BEGIN:VTIMEZONE
TZID:Europe/Paris
BEGIN:DAYLIGHT
TZOFFSETFROM:+0100
TZOFFSETTO:+0200
TZNAME:CEST
DTSTART:20240331T010000
END:DAYLIGHT
BEGIN:STANDARD
TZOFFSETFROM:+0200
TZOFFSETTO:+0100
TZNAME:CET
DTSTART:20241027T010000
END:STANDARD
END:VTIMEZONE
BEGIN:VEVENT
DTSTART;TZID=Europe/Paris:20241009T080000
DTEND;TZID=Europe/Paris:20241031T170000
DTSTAMP:20260423T055239
CREATED:20241009T144225Z
LAST-MODIFIED:20241009T144225Z
UID:2463-1728460800-1730394000@www.rioux-martin.fr
SUMMARY:AGENDA OCTOBRE 2024 - SUD CHARENTE 🍂
DESCRIPTION:AGENDA OCTOBRE 2024 – SUD CHARENTE 🍂 \nagenda-des-manifestations octobre 2024 \n
URL:https://www.rioux-martin.fr/evenement/agenda-octobre-2024-sud-charente-%f0%9f%8d%82/
LOCATION:Sud Charente
ATTACH;FMTTYPE=image/png:https://www.rioux-martin.fr/wp-content/uploads/2022/06/Tourisme-sud-charente.png
END:VEVENT
END:VCALENDAR