BEGIN:VCALENDAR
VERSION:2.0
PRODID:-//Commune de RIOUX-MARTIN - ECPv5.0.3.1//NONSGML v1.0//EN
CALSCALE:GREGORIAN
METHOD:PUBLISH
X-WR-CALNAME:Commune de RIOUX-MARTIN
X-ORIGINAL-URL:https://www.rioux-martin.fr
X-WR-CALDESC:Évènements pour Commune de RIOUX-MARTIN
BEGIN:VTIMEZONE
TZID:Europe/Paris
BEGIN:DAYLIGHT
TZOFFSETFROM:+0100
TZOFFSETTO:+0200
TZNAME:CEST
DTSTART:20230326T010000
END:DAYLIGHT
BEGIN:STANDARD
TZOFFSETFROM:+0200
TZOFFSETTO:+0100
TZNAME:CET
DTSTART:20231029T010000
END:STANDARD
END:VTIMEZONE
BEGIN:VEVENT
DTSTART;TZID=Europe/Paris:20231201T080000
DTEND;TZID=Europe/Paris:20231231T170000
DTSTAMP:20260422T083713
CREATED:20231201T102637Z
LAST-MODIFIED:20231201T102637Z
UID:2202-1701417600-1704042000@www.rioux-martin.fr
SUMMARY:AGENDA DES MANIFESTIONS SUD CHARENTE 12/2023 🎄
DESCRIPTION:AGENDA DES MANIFESTIONS SUD CHARENTE 12/2023 🎄 \nagenda-des-manifestations décembre 2023 \n
URL:https://www.rioux-martin.fr/evenement/agenda-des-manifestions-sud-charente-12-2023-%f0%9f%8e%84/
LOCATION:Sud Charente
END:VEVENT
END:VCALENDAR