BEGIN:VCALENDAR
VERSION:2.0
PRODID:-//Commune de RIOUX-MARTIN - ECPv5.0.3.1//NONSGML v1.0//EN
CALSCALE:GREGORIAN
METHOD:PUBLISH
X-WR-CALNAME:Commune de RIOUX-MARTIN
X-ORIGINAL-URL:https://www.rioux-martin.fr
X-WR-CALDESC:Évènements pour Commune de RIOUX-MARTIN
BEGIN:VTIMEZONE
TZID:Europe/Paris
BEGIN:DAYLIGHT
TZOFFSETFROM:+0100
TZOFFSETTO:+0200
TZNAME:CEST
DTSTART:20230326T010000
END:DAYLIGHT
BEGIN:STANDARD
TZOFFSETFROM:+0200
TZOFFSETTO:+0100
TZNAME:CET
DTSTART:20231029T010000
END:STANDARD
END:VTIMEZONE
BEGIN:VEVENT
DTSTART;TZID=Europe/Paris:20230701T080000
DTEND;TZID=Europe/Paris:20230731T170000
DTSTAMP:20260421T135859
CREATED:20230704T084417Z
LAST-MODIFIED:20230704T084417Z
UID:2070-1688198400-1690822800@www.rioux-martin.fr
SUMMARY:AGENDA DES MANIFESTATIONS SUD CHARENTE en juillet
DESCRIPTION:AGENDA DES MANIFESTATIONS SUD CHARENTE en juillet \nagenda-des-manifestations juillet 2023 \n
URL:https://www.rioux-martin.fr/evenement/agenda-des-manifestations-sud-charente-en-juillet/
LOCATION:Sud Charente
ATTACH;FMTTYPE=image/png:https://www.rioux-martin.fr/wp-content/uploads/2022/06/Tourisme-sud-charente.png
END:VEVENT
END:VCALENDAR