BEGIN:VCALENDAR
VERSION:2.0
PRODID:-//Commune de RIOUX-MARTIN - ECPv5.0.3.1//NONSGML v1.0//EN
CALSCALE:GREGORIAN
METHOD:PUBLISH
X-WR-CALNAME:Commune de RIOUX-MARTIN
X-ORIGINAL-URL:https://www.rioux-martin.fr
X-WR-CALDESC:Évènements pour Commune de RIOUX-MARTIN
BEGIN:VTIMEZONE
TZID:Europe/Paris
BEGIN:DAYLIGHT
TZOFFSETFROM:+0100
TZOFFSETTO:+0200
TZNAME:CEST
DTSTART:20220327T010000
END:DAYLIGHT
BEGIN:STANDARD
TZOFFSETFROM:+0200
TZOFFSETTO:+0100
TZNAME:CET
DTSTART:20221030T010000
END:STANDARD
END:VTIMEZONE
BEGIN:VEVENT
DTSTART;TZID=Europe/Paris:20220809T080000
DTEND;TZID=Europe/Paris:20220831T170000
DTSTAMP:20260421T084123
CREATED:20220809T075536Z
LAST-MODIFIED:20220809T075536Z
UID:1672-1660032000-1661965200@www.rioux-martin.fr
SUMMARY:AGENDA DES MANIFESTATIONS EN AOUT DANS LE SUD CHARENTE
DESCRIPTION:AGENDA DES MANIFESTATIONS EN AOUT – SUD CHARENTE \nagenda-des-manifestations août 2022 \n  \n
URL:https://www.rioux-martin.fr/evenement/agenda-des-manifestations-en-aout-dans-le-sud-charente/
LOCATION:Sud Charente
ATTACH;FMTTYPE=image/png:https://www.rioux-martin.fr/wp-content/uploads/2022/06/Tourisme-sud-charente.png
END:VEVENT
END:VCALENDAR