BEGIN:VCALENDAR
VERSION:2.0
PRODID:-//Commune de RIOUX-MARTIN - ECPv5.0.3.1//NONSGML v1.0//EN
CALSCALE:GREGORIAN
METHOD:PUBLISH
X-WR-CALNAME:Commune de RIOUX-MARTIN
X-ORIGINAL-URL:https://www.rioux-martin.fr
X-WR-CALDESC:Évènements pour Commune de RIOUX-MARTIN
BEGIN:VTIMEZONE
TZID:Europe/Paris
BEGIN:DAYLIGHT
TZOFFSETFROM:+0100
TZOFFSETTO:+0200
TZNAME:CEST
DTSTART:20260329T010000
END:DAYLIGHT
BEGIN:STANDARD
TZOFFSETFROM:+0200
TZOFFSETTO:+0100
TZNAME:CET
DTSTART:20261025T010000
END:STANDARD
END:VTIMEZONE
BEGIN:VEVENT
DTSTART;TZID=Europe/Paris:20260401T080000
DTEND;TZID=Europe/Paris:20260430T170000
DTSTAMP:20260419T182152
CREATED:20260408T145802Z
LAST-MODIFIED:20260408T150011Z
UID:3005-1775030400-1777568400@www.rioux-martin.fr
SUMMARY:AGENDA DES MANIFESTATIONS SUD CHARENTE 04/26 ﻿🌸
DESCRIPTION:AGENDA DES MANIFESTATIONS SUD CHARENTE 04/26 🌸 \nAgenda des manifestations avril 2026 \n
URL:https://www.rioux-martin.fr/evenement/agenda-des-manifestations-sud-charente-04-26-%ef%bb%bf%f0%9f%8c%b8/
LOCATION:Sud Charente
ATTACH;FMTTYPE=image/jpeg:https://www.rioux-martin.fr/wp-content/uploads/2026/04/Avril-2026.jpg
END:VEVENT
BEGIN:VEVENT
DTSTART;TZID=Europe/Paris:20260406T103000
DTEND;TZID=Europe/Paris:20260406T120000
DTSTAMP:20260419T182152
CREATED:20260330T131447Z
LAST-MODIFIED:20260330T131447Z
UID:3000-1775471400-1775476800@www.rioux-martin.fr
SUMMARY:CHASSE AU TRESOR POUR LES ENFANTS DE LA COMMUNE - LUNDI DE PAQUES - le 06/04/2026 à 10h30
DESCRIPTION:CHASSE AU TRESOR POUR LES ENFANTS DE LA COMMUNE – LUNDI DE PAQUES – le 06/04/2026 à 10h30 \n
URL:https://www.rioux-martin.fr/evenement/chasse-au-tresor-pour-les-enfants-de-la-commune-lundi-de-paques-le-06-04-2026-a-10h30/
LOCATION:RIOUX-MARTIN\, 2 rue des écossais du bourg\, RIOUX-MARTIN\, 16210\, France
ATTACH;FMTTYPE=image/png:https://www.rioux-martin.fr/wp-content/uploads/2026/03/Affiche-chasse-aux-oeufs-06-04-2026.png
END:VEVENT
END:VCALENDAR