BEGIN:VCALENDAR
VERSION:2.0
PRODID:-//Commune de RIOUX-MARTIN - ECPv5.0.3.1//NONSGML v1.0//EN
CALSCALE:GREGORIAN
METHOD:PUBLISH
X-WR-CALNAME:Commune de RIOUX-MARTIN
X-ORIGINAL-URL:https://www.rioux-martin.fr
X-WR-CALDESC:Évènements pour Commune de RIOUX-MARTIN
BEGIN:VTIMEZONE
TZID:Europe/Paris
BEGIN:DAYLIGHT
TZOFFSETFROM:+0100
TZOFFSETTO:+0200
TZNAME:CEST
DTSTART:20260329T010000
END:DAYLIGHT
BEGIN:STANDARD
TZOFFSETFROM:+0200
TZOFFSETTO:+0100
TZNAME:CET
DTSTART:20261025T010000
END:STANDARD
END:VTIMEZONE
BEGIN:VEVENT
DTSTART;TZID=Europe/Paris:20260201T080000
DTEND;TZID=Europe/Paris:20260228T170000
DTSTAMP:20260419T213643
CREATED:20260203T105445Z
LAST-MODIFIED:20260203T105445Z
UID:2959-1769932800-1772298000@www.rioux-martin.fr
SUMMARY:AGENDA DES MANIFESTATIONS SUD CHARENTE en février 2026
DESCRIPTION:AGENDA DES MANIFESTATIONS SUD CHARENTE en février 2026 \nagenda-des-manifestations février 2026 \n
URL:https://www.rioux-martin.fr/evenement/agenda-des-manifestations-sud-charente-en-fevrier-2026/
LOCATION:Sud Charente
ATTACH;FMTTYPE=image/jpeg:https://www.rioux-martin.fr/wp-content/uploads/2026/02/Février-2026.jpg
END:VEVENT
END:VCALENDAR