BEGIN:VCALENDAR
VERSION:2.0
PRODID:-//Commune de RIOUX-MARTIN - ECPv5.0.3.1//NONSGML v1.0//EN
CALSCALE:GREGORIAN
METHOD:PUBLISH
X-WR-CALNAME:Commune de RIOUX-MARTIN
X-ORIGINAL-URL:https://www.rioux-martin.fr
X-WR-CALDESC:Évènements pour Commune de RIOUX-MARTIN
BEGIN:VTIMEZONE
TZID:Europe/Paris
BEGIN:DAYLIGHT
TZOFFSETFROM:+0100
TZOFFSETTO:+0200
TZNAME:CEST
DTSTART:20260329T010000
END:DAYLIGHT
BEGIN:STANDARD
TZOFFSETFROM:+0200
TZOFFSETTO:+0100
TZNAME:CET
DTSTART:20261025T010000
END:STANDARD
END:VTIMEZONE
BEGIN:VEVENT
DTSTART;TZID=Europe/Paris:20260106T080000
DTEND;TZID=Europe/Paris:20260116T120000
DTSTAMP:20260419T230436
CREATED:20260106T073853Z
LAST-MODIFIED:20260106T073853Z
UID:2924-1767686400-1768564800@www.rioux-martin.fr
SUMMARY:GROUPEMENT DE COMMANDE FIOUL janvier 2026
DESCRIPTION:GROUPEMENT DE COMMANDE FIOUL janvier 2026 \nCommande groupée fioul bois \n
URL:https://www.rioux-martin.fr/evenement/groupement-de-commande-fioul-janvier-2026/
LOCATION:Chalais
END:VEVENT
BEGIN:VEVENT
DTSTART;VALUE=DATE:20260111
DTEND;VALUE=DATE:20260112
DTSTAMP:20260419T230436
CREATED:20251231T150019Z
LAST-MODIFIED:20251231T150109Z
UID:2919-1768089600-1768175999@www.rioux-martin.fr
SUMMARY:INVITATION AU PARTAGE DE LA GALETTE le 11/01/26
DESCRIPTION:INVITATION AU PARTAGE DE LA GALETTE le 11/01/26 \nGalette 2026 \n
URL:https://www.rioux-martin.fr/evenement/invitation-au-partage-de-la-galette-le-11-01-26/
LOCATION:salle des fêtes RIOUX-MARTIN\, 10 route de la Genétouze\, RIOUX-MARTIN\, 16210\, France
ATTACH;FMTTYPE=image/png:https://www.rioux-martin.fr/wp-content/uploads/2025/12/Affiche-galette-2026.png
END:VEVENT
END:VCALENDAR