BEGIN:VCALENDAR
VERSION:2.0
PRODID:-//Commune de RIOUX-MARTIN - ECPv5.0.3.1//NONSGML v1.0//EN
CALSCALE:GREGORIAN
METHOD:PUBLISH
X-WR-CALNAME:Commune de RIOUX-MARTIN
X-ORIGINAL-URL:https://www.rioux-martin.fr
X-WR-CALDESC:Évènements pour Commune de RIOUX-MARTIN
BEGIN:VTIMEZONE
TZID:Europe/Paris
BEGIN:DAYLIGHT
TZOFFSETFROM:+0100
TZOFFSETTO:+0200
TZNAME:CEST
DTSTART:20250330T010000
END:DAYLIGHT
BEGIN:STANDARD
TZOFFSETFROM:+0200
TZOFFSETTO:+0100
TZNAME:CET
DTSTART:20251026T010000
END:STANDARD
END:VTIMEZONE
BEGIN:VEVENT
DTSTART;TZID=Europe/Paris:20250901T080000
DTEND;TZID=Europe/Paris:20250930T170000
DTSTAMP:20260420T043729
CREATED:20250903T145532Z
LAST-MODIFIED:20250903T145532Z
UID:2788-1756713600-1759251600@www.rioux-martin.fr
SUMMARY:AGENDA DES MANIFESTATIONS SUD CHARENTE 09/25 🍂
DESCRIPTION:AGENDA DES MANIFESTATIONS SUD CHARENTE 09/25 🍂 \nagenda-des-manifestations septembre 2025 \n
URL:https://www.rioux-martin.fr/evenement/agenda-des-manifestations-sud-charente-09-25-%f0%9f%8d%82/
LOCATION:Sud Charente
ATTACH;FMTTYPE=image/jpeg:https://www.rioux-martin.fr/wp-content/uploads/2025/09/agenda-des-manifestations-septembre-2025-image.jpg
END:VEVENT
END:VCALENDAR