BEGIN:VCALENDAR
VERSION:2.0
PRODID:-//Commune de RIOUX-MARTIN - ECPv5.0.3.1//NONSGML v1.0//EN
CALSCALE:GREGORIAN
METHOD:PUBLISH
X-WR-CALNAME:Commune de RIOUX-MARTIN
X-ORIGINAL-URL:https://www.rioux-martin.fr
X-WR-CALDESC:Évènements pour Commune de RIOUX-MARTIN
BEGIN:VTIMEZONE
TZID:Europe/Paris
BEGIN:DAYLIGHT
TZOFFSETFROM:+0100
TZOFFSETTO:+0200
TZNAME:CEST
DTSTART:20250330T010000
END:DAYLIGHT
BEGIN:STANDARD
TZOFFSETFROM:+0200
TZOFFSETTO:+0100
TZNAME:CET
DTSTART:20251026T010000
END:STANDARD
END:VTIMEZONE
BEGIN:VEVENT
DTSTART;TZID=Europe/Paris:20250702T080000
DTEND;TZID=Europe/Paris:20250731T170000
DTSTAMP:20260420T071334
CREATED:20250702T130848Z
LAST-MODIFIED:20250702T130848Z
UID:2713-1751443200-1753981200@www.rioux-martin.fr
SUMMARY:AGENDA DES MANIFESTATIONS SUD CHARENTE 07/25 🔆
DESCRIPTION:AGENDA DES MANIFESTATIONS SUD CHARENTE 07/25 🔆 \nAgenda des manifestations juillet 2025 partie 1 \nAgenda des manifestations juillet 2025 partie 2 \n
URL:https://www.rioux-martin.fr/evenement/agenda-des-manifestations-sud-charente-07-25-%f0%9f%94%86/
LOCATION:Sud Charente
ATTACH;FMTTYPE=image/png:https://www.rioux-martin.fr/wp-content/uploads/2022/06/Tourisme-sud-charente.png
END:VEVENT
BEGIN:VEVENT
DTSTART;TZID=Europe/Paris:20250716T080000
DTEND;TZID=Europe/Paris:20250726T170000
DTSTAMP:20260420T071334
CREATED:20250715T081731Z
LAST-MODIFIED:20250715T081731Z
UID:2730-1752652800-1753549200@www.rioux-martin.fr
SUMMARY:FERMETURE DE LA MAIRIE du 16 au 25/07/2025
DESCRIPTION:FERMETURE DE LA MAIRIE du 16 au 25/07/2025 \nfermeture Mairie juillet 2025 2 signée \n
URL:https://www.rioux-martin.fr/evenement/fermeture-de-la-mairie-du-16-au-25-07-2025/
LOCATION:RIOUX-MARTIN\, 2 rue des écossais du bourg\, RIOUX-MARTIN\, 16210\, France
ATTACH;FMTTYPE=image/jpeg:https://www.rioux-martin.fr/wp-content/uploads/2022/06/Marianne-RIOUX-MARTIN.jpg
END:VEVENT
END:VCALENDAR