BEGIN:VCALENDAR
VERSION:2.0
PRODID:-//Commune de RIOUX-MARTIN - ECPv5.0.3.1//NONSGML v1.0//EN
CALSCALE:GREGORIAN
METHOD:PUBLISH
X-WR-CALNAME:Commune de RIOUX-MARTIN
X-ORIGINAL-URL:https://www.rioux-martin.fr
X-WR-CALDESC:Évènements pour Commune de RIOUX-MARTIN
BEGIN:VTIMEZONE
TZID:Europe/Paris
BEGIN:DAYLIGHT
TZOFFSETFROM:+0100
TZOFFSETTO:+0200
TZNAME:CEST
DTSTART:20240331T010000
END:DAYLIGHT
BEGIN:STANDARD
TZOFFSETFROM:+0200
TZOFFSETTO:+0100
TZNAME:CET
DTSTART:20241027T010000
END:STANDARD
END:VTIMEZONE
BEGIN:VEVENT
DTSTART;TZID=Europe/Paris:20240903T080000
DTEND;TZID=Europe/Paris:20240930T170000
DTSTAMP:20260424T212729
CREATED:20240903T085724Z
LAST-MODIFIED:20240903T085724Z
UID:2445-1725350400-1727715600@www.rioux-martin.fr
SUMMARY:AGENDA SEPTEMBRE 2024 - SUD CHARENTE ﻿🍂
DESCRIPTION:AGENDA SEPTEMBRE 2024 – SUD CHARENTE 🍂 \nagenda-des-manifestations septembre 2024 \n
URL:https://www.rioux-martin.fr/evenement/agenda-septembre-2024-sud-charente-%ef%bb%bf%f0%9f%8d%82/
LOCATION:Sud Charente
ATTACH;FMTTYPE=image/png:https://www.rioux-martin.fr/wp-content/uploads/2022/06/Tourisme-sud-charente.png
END:VEVENT
BEGIN:VEVENT
DTSTART;TZID=Europe/Paris:20240929T160000
DTEND;TZID=Europe/Paris:20240929T180000
DTSTAMP:20260424T212729
CREATED:20240918T133136Z
LAST-MODIFIED:20240918T133136Z
UID:2450-1727625600-1727632800@www.rioux-martin.fr
SUMMARY:CONCERT ARPEGGIONE à RIOUX-MARTIN le 29/09/2024 ﻿🎻
DESCRIPTION:CONCERT ARPEGGIONE à RIOUX-MARTIN le 29/09/2024 🎻 \n
URL:https://www.rioux-martin.fr/evenement/concert-arpeggione-a-rioux-martin-le-29-09-2024-%ef%bb%bf%f0%9f%8e%bb/
LOCATION:salle des fêtes RIOUX-MARTIN\, 10 route de la Genétouze\, RIOUX-MARTIN\, 16210\, France
ATTACH;FMTTYPE=image/jpeg:https://www.rioux-martin.fr/wp-content/uploads/2024/09/concert-arpeggione2024-scaled.jpg
END:VEVENT
END:VCALENDAR