BEGIN:VCALENDAR
VERSION:2.0
PRODID:-//Commune de RIOUX-MARTIN - ECPv5.0.3.1//NONSGML v1.0//EN
CALSCALE:GREGORIAN
METHOD:PUBLISH
X-WR-CALNAME:Commune de RIOUX-MARTIN
X-ORIGINAL-URL:https://www.rioux-martin.fr
X-WR-CALDESC:Évènements pour Commune de RIOUX-MARTIN
BEGIN:VTIMEZONE
TZID:Europe/Paris
BEGIN:DAYLIGHT
TZOFFSETFROM:+0100
TZOFFSETTO:+0200
TZNAME:CEST
DTSTART:20240331T010000
END:DAYLIGHT
BEGIN:STANDARD
TZOFFSETFROM:+0200
TZOFFSETTO:+0100
TZNAME:CET
DTSTART:20241027T010000
END:STANDARD
END:VTIMEZONE
BEGIN:VEVENT
DTSTART;TZID=Europe/Paris:20240604T080000
DTEND;TZID=Europe/Paris:20240630T170000
DTSTAMP:20260425T015828
CREATED:20240604T085707Z
LAST-MODIFIED:20240604T090309Z
UID:2328-1717488000-1719766800@www.rioux-martin.fr
SUMMARY:AGENDA juin 2024 SUD CHARENTE ☀
DESCRIPTION:AGENDA juin 2024 SUD CHARENTE ☀ \nAgenda des manifestations juin 2024 \n
URL:https://www.rioux-martin.fr/evenement/agenda-juin-2024-sud-charente-%e2%98%80/
LOCATION:Sud Charente
ATTACH;FMTTYPE=image/png:https://www.rioux-martin.fr/wp-content/uploads/2022/06/Tourisme-sud-charente.png
END:VEVENT
BEGIN:VEVENT
DTSTART;VALUE=DATE:20240629
DTEND;VALUE=DATE:20240630
DTSTAMP:20260425T015828
CREATED:20240604T090054Z
LAST-MODIFIED:20240604T090054Z
UID:2333-1719619200-1719705599@www.rioux-martin.fr
SUMMARY:REPAS DE VILLAGE à RIOUX-MARTIN le 29 juin 2024 🍽
DESCRIPTION:REPAS DE VILLAGE à RIOUX-MARTIN le 29 juin 2024 🍽 \nrepas village \n
URL:https://www.rioux-martin.fr/evenement/repas-de-village-a-rioux-martin-le-29-juin-2024-%f0%9f%8d%bd/
LOCATION:RIOUX-MARTIN\, 2 rue des écossais du bourg\, RIOUX-MARTIN\, 16210\, France
ATTACH;FMTTYPE=image/jpeg:https://www.rioux-martin.fr/wp-content/uploads/2024/06/Repas-de-village.jpg
END:VEVENT
END:VCALENDAR